BEGIN:VCALENDAR
VERSION:2.0
PRODID:-//UCLA School of Education &amp; Information Studies - ECPv6.15.15//NONSGML v1.0//EN
CALSCALE:GREGORIAN
METHOD:PUBLISH
X-WR-CALNAME:UCLA School of Education &amp; Information Studies
X-ORIGINAL-URL:https://seis.ucla.edu
X-WR-CALDESC:Events for UCLA School of Education &amp; Information Studies
REFRESH-INTERVAL;VALUE=DURATION:PT1H
X-Robots-Tag:noindex
X-PUBLISHED-TTL:PT1H
BEGIN:VTIMEZONE
TZID:America/Los_Angeles
BEGIN:DAYLIGHT
TZOFFSETFROM:-0800
TZOFFSETTO:-0700
TZNAME:PDT
DTSTART:20240310T100000
END:DAYLIGHT
BEGIN:STANDARD
TZOFFSETFROM:-0700
TZOFFSETTO:-0800
TZNAME:PST
DTSTART:20241103T090000
END:STANDARD
BEGIN:DAYLIGHT
TZOFFSETFROM:-0800
TZOFFSETTO:-0700
TZNAME:PDT
DTSTART:20250309T100000
END:DAYLIGHT
BEGIN:STANDARD
TZOFFSETFROM:-0700
TZOFFSETTO:-0800
TZNAME:PST
DTSTART:20251102T090000
END:STANDARD
BEGIN:DAYLIGHT
TZOFFSETFROM:-0800
TZOFFSETTO:-0700
TZNAME:PDT
DTSTART:20260308T100000
END:DAYLIGHT
BEGIN:STANDARD
TZOFFSETFROM:-0700
TZOFFSETTO:-0800
TZNAME:PST
DTSTART:20261101T090000
END:STANDARD
END:VTIMEZONE
BEGIN:VEVENT
DTSTART;TZID=America/Los_Angeles:20250424T140000
DTEND;TZID=America/Los_Angeles:20250424T160000
DTSTAMP:20260423T221523
CREATED:20250414T183229Z
LAST-MODIFIED:20250415T182006Z
UID:19139-1745503200-1745510400@seis.ucla.edu
SUMMARY:Information Studies Colloquium: The Weight of Small Things: Everyday Archiving and the Making of Belonging in Chinese American Families with Jiarui Sun
DESCRIPTION:Abstract: \n\n\n\nThis talk explores the everyday archiving practices of Chinese American families\, with particular attention to their transnational and intergenerational dimensions. Drawing on interviews\, ethnographic observations\, and personal narratives\, it examines how family members across different generations and geographies engage with documents\, photographs\, digital records\, and heirlooms—not only as sources of information\, but also as emotionally charged objects that carry meaning\, memory\, and identity. The analysis focuses on how these materials are preserved\, interpreted\, and at times contested across borders and generations\, situating such practices within complex negotiations of belonging\, displacement\, and cultural continuity. Family archives are framed as sites of emotional labor and diasporic care\, highlighting their affective\, relational\, and infrastructural dimensions. Rather than being solely about safeguarding the past\, the talk positions family archiving as a practice through which diasporic futures are imagined\, constructed\, and sustained. \n\n\n\nBio: \n\n\n\nJiarui Sun is a Ph.D. candidate in Information Studies and a graduate student researcher at the Asia Pacific Center at UCLA. His research interests include archives and migration\, personal archiving\, and digital recordkeeping. His work has been published in both English- and Chinese-language journals\, including Archival Science\, and has received support from the Society of American Archivists\, the Society of California Archivists\, the Beta Phi Mu International Honor Society for Library and Information Science\, and the UCLA Asian American Studies Center.
URL:https://seis.ucla.edu/event/information-studies-colloquium-the-weight-of-small-things-everyday-archiving-and-the-making-of-belonging-in-chinese-american-families-with-jiarui-sun/
LOCATION:UCLA Moore Hall\, Reading Room\, 3340\, 457 Portola Plaza\, Los Angeles\, California\, 90095\, United States
CATEGORIES:Department of Information Studies,Students,Talks, Lectures, Seminars, and Presentations
ATTACH;FMTTYPE=image/avif:https://seis.ucla.edu/wp-content/uploads/2025/04/IS-Colloquium-poster-crop.avif
END:VEVENT
END:VCALENDAR