BEGIN:VCALENDAR
VERSION:2.0
PRODID:-//UCLA School of Education &amp; Information Studies - ECPv6.15.15//NONSGML v1.0//EN
CALSCALE:GREGORIAN
METHOD:PUBLISH
X-WR-CALNAME:UCLA School of Education &amp; Information Studies
X-ORIGINAL-URL:https://seis.ucla.edu
X-WR-CALDESC:Events for UCLA School of Education &amp; Information Studies
REFRESH-INTERVAL;VALUE=DURATION:PT1H
X-Robots-Tag:noindex
X-PUBLISHED-TTL:PT1H
BEGIN:VTIMEZONE
TZID:America/Los_Angeles
BEGIN:DAYLIGHT
TZOFFSETFROM:-0800
TZOFFSETTO:-0700
TZNAME:PDT
DTSTART:20250309T100000
END:DAYLIGHT
BEGIN:STANDARD
TZOFFSETFROM:-0700
TZOFFSETTO:-0800
TZNAME:PST
DTSTART:20251102T090000
END:STANDARD
BEGIN:DAYLIGHT
TZOFFSETFROM:-0800
TZOFFSETTO:-0700
TZNAME:PDT
DTSTART:20260308T100000
END:DAYLIGHT
BEGIN:STANDARD
TZOFFSETFROM:-0700
TZOFFSETTO:-0800
TZNAME:PST
DTSTART:20261101T090000
END:STANDARD
BEGIN:DAYLIGHT
TZOFFSETFROM:-0800
TZOFFSETTO:-0700
TZNAME:PDT
DTSTART:20270314T100000
END:DAYLIGHT
BEGIN:STANDARD
TZOFFSETFROM:-0700
TZOFFSETTO:-0800
TZNAME:PST
DTSTART:20271107T090000
END:STANDARD
END:VTIMEZONE
BEGIN:VEVENT
DTSTART;TZID=America/Los_Angeles:20260212T143000
DTEND;TZID=America/Los_Angeles:20260212T163000
DTSTAMP:20260423T014510
CREATED:20251203T003136Z
LAST-MODIFIED:20251203T234002Z
UID:22654-1770906600-1770913800@seis.ucla.edu
SUMMARY:Bibliotactics: Libraries and the Colonial Public in Vietnam
DESCRIPTION:The Information Studies Colloquium & Center for Southeast Asian Studies invite faculty\, staff\, and students to a book celebration and reception for Bibliotactics: Libraries and the Colonial Public in Vietnam\, written by Dr. Cindy Nguyen. \n\n\n\nLibraries in French colonial Vietnam functioned as symbols of Western modernity and infrastructures of colonial knowledge. Yet Vietnamese readers pursued alternative uses of the library that exceeded imperial intentions. Bibliotactics examines the Hanoi and Saigon state libraries from colonial to post colonial Vietnam\, uncovering the emergence of a colonial public who reimagined the political meaning and social space of the library through public critique and day-to day-practice. \n\n\n\n\n  Register
URL:https://seis.ucla.edu/event/bibliotactics-libraries-and-the-colonial-public-in-vietnam/
LOCATION:DataX Impact Forum\, Murphy Hall\, Room 3312\, 410 Charles E Young Dr E\, Los Angeles\, 90095
ATTACH;FMTTYPE=image/png:https://seis.ucla.edu/wp-content/uploads/2025/12/Bibliotactics-Libraries-and-the-Colonial-Public-in-Vietnam-Calendar.png
END:VEVENT
END:VCALENDAR