BEGIN:VCALENDAR
VERSION:2.0
PRODID:-//UCLA School of Education &amp; Information Studies - ECPv6.15.15//NONSGML v1.0//EN
CALSCALE:GREGORIAN
METHOD:PUBLISH
X-WR-CALNAME:UCLA School of Education &amp; Information Studies
X-ORIGINAL-URL:https://seis.ucla.edu
X-WR-CALDESC:Events for UCLA School of Education &amp; Information Studies
REFRESH-INTERVAL;VALUE=DURATION:PT1H
X-Robots-Tag:noindex
X-PUBLISHED-TTL:PT1H
BEGIN:VTIMEZONE
TZID:America/Los_Angeles
BEGIN:DAYLIGHT
TZOFFSETFROM:-0800
TZOFFSETTO:-0700
TZNAME:PDT
DTSTART:20250309T100000
END:DAYLIGHT
BEGIN:STANDARD
TZOFFSETFROM:-0700
TZOFFSETTO:-0800
TZNAME:PST
DTSTART:20251102T090000
END:STANDARD
BEGIN:DAYLIGHT
TZOFFSETFROM:-0800
TZOFFSETTO:-0700
TZNAME:PDT
DTSTART:20260308T100000
END:DAYLIGHT
BEGIN:STANDARD
TZOFFSETFROM:-0700
TZOFFSETTO:-0800
TZNAME:PST
DTSTART:20261101T090000
END:STANDARD
BEGIN:DAYLIGHT
TZOFFSETFROM:-0800
TZOFFSETTO:-0700
TZNAME:PDT
DTSTART:20270314T100000
END:DAYLIGHT
BEGIN:STANDARD
TZOFFSETFROM:-0700
TZOFFSETTO:-0800
TZNAME:PST
DTSTART:20271107T090000
END:STANDARD
END:VTIMEZONE
BEGIN:VEVENT
DTSTART;TZID=America/Los_Angeles:20260201T000000
DTEND;TZID=America/Los_Angeles:20260201T235959
DTSTAMP:20260422T050914
CREATED:20260110T210811Z
LAST-MODIFIED:20260110T210812Z
UID:22978-1769904000-1769990399@seis.ucla.edu
SUMMARY:Black History Month
DESCRIPTION:
URL:https://seis.ucla.edu/event/black-history-month/
LOCATION:California
ATTACH;FMTTYPE=image/png:https://seis.ucla.edu/wp-content/uploads/2026/01/Black-History-Month.png
END:VEVENT
END:VCALENDAR