BEGIN:VCALENDAR
VERSION:2.0
PRODID:-//UCLA School of Education &amp; Information Studies - ECPv6.15.15//NONSGML v1.0//EN
CALSCALE:GREGORIAN
METHOD:PUBLISH
X-WR-CALNAME:UCLA School of Education &amp; Information Studies
X-ORIGINAL-URL:https://seis.ucla.edu
X-WR-CALDESC:Events for UCLA School of Education &amp; Information Studies
REFRESH-INTERVAL;VALUE=DURATION:PT1H
X-Robots-Tag:noindex
X-PUBLISHED-TTL:PT1H
BEGIN:VTIMEZONE
TZID:America/Los_Angeles
BEGIN:DAYLIGHT
TZOFFSETFROM:-0800
TZOFFSETTO:-0700
TZNAME:PDT
DTSTART:20250309T100000
END:DAYLIGHT
BEGIN:STANDARD
TZOFFSETFROM:-0700
TZOFFSETTO:-0800
TZNAME:PST
DTSTART:20251102T090000
END:STANDARD
BEGIN:DAYLIGHT
TZOFFSETFROM:-0800
TZOFFSETTO:-0700
TZNAME:PDT
DTSTART:20260308T100000
END:DAYLIGHT
BEGIN:STANDARD
TZOFFSETFROM:-0700
TZOFFSETTO:-0800
TZNAME:PST
DTSTART:20261101T090000
END:STANDARD
BEGIN:DAYLIGHT
TZOFFSETFROM:-0800
TZOFFSETTO:-0700
TZNAME:PDT
DTSTART:20270314T100000
END:DAYLIGHT
BEGIN:STANDARD
TZOFFSETFROM:-0700
TZOFFSETTO:-0800
TZNAME:PST
DTSTART:20271107T090000
END:STANDARD
END:VTIMEZONE
BEGIN:VEVENT
DTSTART;TZID=America/Los_Angeles:20260131T193000
DTEND;TZID=America/Los_Angeles:20260131T211500
DTSTAMP:20260422T115922
CREATED:20251212T222234Z
LAST-MODIFIED:20251212T222235Z
UID:22831-1769887800-1769894100@seis.ucla.edu
SUMMARY:The Stringer | Screening and Q&A Moderated by Professor Thuy Vo Dang
DESCRIPTION:Q&A with filmmaker Bao Nguyen\, producer Terri Lichstein\, line producer Jenni Trang Le\, moderated by UCLA Assistant Professor Thuy Vo Dang\, Information Studies and Asian American Studies. Introduction by Archive Director May Hong HaDuong. \n\n\n\nAdmission is free. No advance reservations. Your seat will be assigned to you when you pick up your ticket at the box office. Seats are assigned on a first come\, first served basis. The box office opens one hour before the event. \n\n\n\nThrough unprecedented on-the-ground access\, journalists brought the Vietnam War to the living rooms of a global audience. Public outcry and resistance grew as brutal and bloody images reached the homes of millions. One of the most recognizable images taken during the conflict\, “The Terror of War\,” featured a young\, unclothed girl running following a napalm attack. The photograph would become a turning point for the hearts and minds of the world\, earning photographer Nick Út a Pulitzer Prize. Decades later\, Bao Nguyen’s gripping film documents a possible revelation of the photograph’s long-held secret and the chain reaction that follows. A story of record unravels through forensic tools\, first-hand accounts\, and an emotional\, climactic reunion. Premiering at the 2025 Sundance Film Festival\, The Stringer sparked controversy in the photojournalism world\, raising questions about the editorial power structures that propelled the stature of some photographers over the obscurity of others. Following the screening\, filmmaker Bao Nguyen\, producer Terri Lichstein\, and line producer Jenni Trang Le will discuss the two-year journey of the making of The Stringer. \n\n\n\nPresented by the UCLA Film & Television Archive in partnership with the UCLA School of Education and Information Studies and the UCLA Documentary Film Legal Clinic. \n\n\n\n\n\n\n  More Information
URL:https://seis.ucla.edu/event/the-stringer-screening-and-qa-moderated-by-professor-thuy-vo-dang/
LOCATION:Billy Wilder Theater\, Hammer Museum\, 10899 Wilshire Blvd\, Los Angeles\, CA 90024\, Los Angeles\, California\, 90024
ATTACH;FMTTYPE=image/png:https://seis.ucla.edu/wp-content/uploads/2025/12/The-Stringer.png
END:VEVENT
END:VCALENDAR