BEGIN:VCALENDAR
VERSION:2.0
PRODID:-//UCLA School of Education &amp; Information Studies - ECPv6.15.15//NONSGML v1.0//EN
CALSCALE:GREGORIAN
METHOD:PUBLISH
X-ORIGINAL-URL:https://seis.ucla.edu
X-WR-CALDESC:Events for UCLA School of Education &amp; Information Studies
REFRESH-INTERVAL;VALUE=DURATION:PT1H
X-Robots-Tag:noindex
X-PUBLISHED-TTL:PT1H
BEGIN:VTIMEZONE
TZID:America/Los_Angeles
BEGIN:DAYLIGHT
TZOFFSETFROM:-0800
TZOFFSETTO:-0700
TZNAME:PDT
DTSTART:20250309T100000
END:DAYLIGHT
BEGIN:STANDARD
TZOFFSETFROM:-0700
TZOFFSETTO:-0800
TZNAME:PST
DTSTART:20251102T090000
END:STANDARD
BEGIN:DAYLIGHT
TZOFFSETFROM:-0800
TZOFFSETTO:-0700
TZNAME:PDT
DTSTART:20260308T100000
END:DAYLIGHT
BEGIN:STANDARD
TZOFFSETFROM:-0700
TZOFFSETTO:-0800
TZNAME:PST
DTSTART:20261101T090000
END:STANDARD
BEGIN:DAYLIGHT
TZOFFSETFROM:-0800
TZOFFSETTO:-0700
TZNAME:PDT
DTSTART:20270314T100000
END:DAYLIGHT
BEGIN:STANDARD
TZOFFSETFROM:-0700
TZOFFSETTO:-0800
TZNAME:PST
DTSTART:20271107T090000
END:STANDARD
END:VTIMEZONE
BEGIN:VEVENT
DTSTART;TZID=America/Los_Angeles:20260129T120000
DTEND;TZID=America/Los_Angeles:20260129T140000
DTSTAMP:20260422T063536
CREATED:20260123T010610Z
LAST-MODIFIED:20260123T010611Z
UID:23075-1769688000-1769695200@seis.ucla.edu
SUMMARY:5 Years Forward: Progress and Partnership at the Intersection of Child Welfare and Domestic Violence - Online Summit 
DESCRIPTION:This online event will showcase five years of strategic investments\, research and advocacy at the intersection of child welfare and domestic violence. The webinar will offer participants insight into the progress achieved\, the lessons that shape current practice\, and emerging opportunities to further strengthen safety\, stability\, and well-being for survivors and their children. \n\n\n\nConfirmed Speakers Include: \n\n\n\nAlyson Messenger —Jenesse Center  \n\n\n\nIzzy Swindler — Assemblymember Tom Lackey \n\n\n\nJacqueline Herrera — Los Angeles Dependency Lawyers  \n\n\n\nKrista Colon — California Partnership to End Domestic Violence  \n\n\n\nKristina Lovato — University of California\, Berkeley \n\n\n\nLisa Whitecrow — Los Angeles County Department of Children and Family Services  \n\n\n\nLizzie Shuster — SD3\, Office of Supervisor Lindsey Horvath \n\n\n\nMonica Banken — SD5\, Office of Supervisor Kathryn Barger \n\n\n\nRoman James — SD3\, Commission for Children and Families\, Co Chair-Racial Justice Committee // Co-Chair\, DV LEAP Committee // Office of Violence Prevention Community Partnership Council \n\n\n\nSharon Balmer Cartagena — Public Counsel \n\n\n\nTamara Hunter — Los Angeles County Department of Children and Family Services  \n\n\n\nYvette Lozano — Peace Over Violence  \n\n\n\nMore speakers TBA!  \n\n\n\nZoom Webinar \n\n\n\nThe Zoom link will be emailed to you 24 hours before the event. \n\n\n\nPlease RSVP by Monday\, January 26.  \n\n\n\nFor any questions\, please email Taylor Dudley at dudley@gseis.ucla.edu. \n\n\n\n\n  Register Now
URL:https://seis.ucla.edu/event/5-years-forward-progress-and-partnership-at-the-intersection-of-child-welfare-and-domestic-violence-online-summit/
LOCATION:Zoom
ATTACH;FMTTYPE=image/png:https://seis.ucla.edu/wp-content/uploads/2026/01/5-Years-Forward.png
ORGANIZER;CN="UCLA Pritzker Center For Strengthening Children and Families":MAILTO:info@pritzkercenter.ucla.edu
END:VEVENT
END:VCALENDAR