BEGIN:VCALENDAR
VERSION:2.0
PRODID:-//UCLA School of Education &amp; Information Studies - ECPv6.15.15//NONSGML v1.0//EN
CALSCALE:GREGORIAN
METHOD:PUBLISH
X-WR-CALNAME:UCLA School of Education &amp; Information Studies
X-ORIGINAL-URL:https://seis.ucla.edu
X-WR-CALDESC:Events for UCLA School of Education &amp; Information Studies
REFRESH-INTERVAL;VALUE=DURATION:PT1H
X-Robots-Tag:noindex
X-PUBLISHED-TTL:PT1H
BEGIN:VTIMEZONE
TZID:America/Los_Angeles
BEGIN:DAYLIGHT
TZOFFSETFROM:-0800
TZOFFSETTO:-0700
TZNAME:PDT
DTSTART:20240310T100000
END:DAYLIGHT
BEGIN:STANDARD
TZOFFSETFROM:-0700
TZOFFSETTO:-0800
TZNAME:PST
DTSTART:20241103T090000
END:STANDARD
BEGIN:DAYLIGHT
TZOFFSETFROM:-0800
TZOFFSETTO:-0700
TZNAME:PDT
DTSTART:20250309T100000
END:DAYLIGHT
BEGIN:STANDARD
TZOFFSETFROM:-0700
TZOFFSETTO:-0800
TZNAME:PST
DTSTART:20251102T090000
END:STANDARD
BEGIN:DAYLIGHT
TZOFFSETFROM:-0800
TZOFFSETTO:-0700
TZNAME:PDT
DTSTART:20260308T100000
END:DAYLIGHT
BEGIN:STANDARD
TZOFFSETFROM:-0700
TZOFFSETTO:-0800
TZNAME:PST
DTSTART:20261101T090000
END:STANDARD
END:VTIMEZONE
BEGIN:VEVENT
DTSTART;TZID=America/Los_Angeles:20250227T020000
DTEND;TZID=America/Los_Angeles:20250227T160000
DTSTAMP:20260421T042128
CREATED:20250212T231033Z
LAST-MODIFIED:20250219T060038Z
UID:17492-1740621600-1740672000@seis.ucla.edu
SUMMARY:Information Studies Colloquium: Frank Gilbreth\, Fatigue Elimination\, and Consuming and Producing "Information" Systematically (1892-1924) with Jimein Tina Wei Ph.D. candidate
DESCRIPTION:Please join us for our next IS Colloquium on February 27\, 2:00-4:00 p.m. in the Reading Room\, 3340 Moore Hall. There will be refreshments to follow.  \n\n\n\nBio \n\n\n\nJiemin Tina Wei is a PhD candidate in Harvard University’s Department of the History of Science\, where she is completing her dissertation on the history of fatigue in the workplace. Her research has received funding from the National Science Foundation\, the Smithsonian Institution’s National Museum of American History\, the Andrew Mellon Foundation\, and the Social Science Research Council. Prior to graduate school\, she worked at Google\, Stanford University\, and the Environmental Protection Agency. \n\n\n\nAbstract \n\n\n\nIn the 1910s\, an “efficiency craze” swept the United States\, as debates erupted over the veracity and ethical\, social\, and economic consequences of a new system of managing human labor newly coined as “Scientific Management.” As these dramas raged over the theories of the consultant Frederick Winslow Taylor and his colleagues\, bricklayer-turned-franchise-owner Frank Gilbreth had been tinkering away on alternative solutions to the “labor problem.” Contracted to implement efficiency improvements at the New England Butt Company in 1912 and 1913\, he used this testing ground to introduce his new method for finding “the One Best Way to do work.” Armed with photography assistants\, he sought to transition the focus in his field of Scientific Management from “time studies” of the stopwatch to “motion studies” of the camera. Both Taylor and Gilbreth aimed at efficiency\, but Gilbreth’s motion study approached efficiency through a different plane of analysis: space\, not time. For Frank and his wife Lillian Gilbreth\, one achieved work efficiency by manipulating the lines and shapes of the body. Although generated in a seemingly top-down context—by an efficiency engineer creating systematized and objective knowledge about workers’ bodies—Frank Gilbreth’s photographs and their paraphernalia captured how workers both resisted and collaborated with the sometimes-bumbling Gilbreth and his obsessive\, eccentric methods. The Gilbreths’ pursuit of “fatigue elimination” through the motions of the human body involved gathering\, storing\, and generating vast stores of what they called research “information.” To contain\, sort\, and selectively retrieve this torrent of “information” with efficiency\, the Gilbreths had to apply their own methods of “fatigue elimination” to their own work as researchers.
URL:https://seis.ucla.edu/event/information-studies-colloquium-frank-gilbreth-fatigue-elimination-and-consuming-and-producing-information-systematically-1892-1924-with-dr-jimein-tina-wei/
LOCATION:UCLA Moore Hall\, Reading Room\, 3340\, 457 Portola Plaza\, Los Angeles\, California\, 90095\, United States
ATTACH;FMTTYPE=image/png:https://seis.ucla.edu/wp-content/uploads/2024/12/IS-Colloquium-poster-crop.png
END:VEVENT
BEGIN:VEVENT
DTSTART;TZID=America/Los_Angeles:20250227T180000
DTEND;TZID=America/Los_Angeles:20250227T200000
DTSTAMP:20260421T042128
CREATED:20250212T233013Z
LAST-MODIFIED:20250212T233014Z
UID:17497-1740679200-1740686400@seis.ucla.edu
SUMMARY:Citizen Ashe Film Screening
DESCRIPTION:Date: Thursday\, February 27\, 2025 \n\n\n\nTime: 6:00 pm – Reception; Citizen Ashe Film Screening  / Discussion to follow from 6:30 pm – 8:30 pm \n\n\n\nLocation: UCLA Northwest Auditorium\,  350 De Neve Dr\, Los Angeles\, CA 90024  \n\n\n\nRefreshments will be served. Attendance is complimentary; registration is required. We kindly request your RSVP by Wednesday\, February 25\, 2025.  \n\n\n\n \n\n\n\nOn behalf of Arthur Ashe Legacy Project @UCLA\, we are pleased to invite you to a 50th Anniversary Celebration of Arthur Ashe’s Historic Wimbledon Victory. This event commemorates one of the most significant milestones in tennis history and the enduring impact of Arthur Ashe’s legacy. \n\n\n\nArthur Ashe\, one of UCLA’s most influential alumni\, was not only a groundbreaking tennis champion but also a tireless advocate for social justice\, civil rights\, health\, and education. Ashe’s legacy goes beyond his remarkable athletic achievements\, including becoming the first African American man to win Wimbledon\, the U.S. Open\, and the Australian Open. He used his platform to challenge the systemic inequities of his time and fought for marginalized communities both on and off the tennis court. Ashe was particularly outspoken on issues of racial inequality\, apartheid\, HIV/AIDS awareness\, and the importance of education. Many of the systemic issues Ashe fought for — racial injustice\, access to healthcare\, educational inequities\, and global human rights — continue to inflict harm on individuals and communities across the world. \n\n\n\nJoin us for an exclusive celebration paying tribute to Ashe’s extraordinary contributions to the world and learn more about the ongoing impact of his legacy through the Arthur Ashe Legacy Project at UCLA. The evening will feature a reception followed by a film screening of Citizen Ashe\, a biography that highlights his life and enduring influence. \n\n\n\nIntroductory Movie:  \n\n\n\nhttps://www.dropbox.com/scl/fi/js3mzcv4s0wfanmoqci6k/Welcome-to-the-Ashe-Project-at-UCLA.mov?rlkey=uvi3ynv8zztt1439o9kpe5pr6&e=1&st=9d286fy9&dl=0
URL:https://seis.ucla.edu/event/citizen-ashe-film-screening/
LOCATION:UCLA Northwest Auditorium\, 350 De Neve Dr\, Los Angeles\, California\, 90024\, United States
ATTACH;FMTTYPE=image/jpeg:https://seis.ucla.edu/wp-content/uploads/2025/02/475737076_9461961363827105_8902510595663506438_n.jpg
END:VEVENT
END:VCALENDAR